Package: ffpe Version: 1.54.0 Command: /home/biocbuild/R/R/bin/R CMD check --install=check:ffpe.install-out.txt --library=/home/biocbuild/R/R/site-library --no-vignettes --timings ffpe_1.54.0.tar.gz StartedAt: 2025-11-21 10:40:44 -0000 (Fri, 21 Nov 2025) EndedAt: 2025-11-21 10:47:28 -0000 (Fri, 21 Nov 2025) EllapsedTime: 404.4 seconds RetCode: 0 Status: OK CheckDir: ffpe.Rcheck Warnings: 0