Package: ffpe Version: 1.53.0 Command: /home/biocbuild/bbs-3.22-bioc/R/bin/R CMD check --install=check:ffpe.install-out.txt --library=/home/biocbuild/bbs-3.22-bioc/R/site-library --timings ffpe_1.53.0.tar.gz StartedAt: 2025-10-06 23:52:40 -0400 (Mon, 06 Oct 2025) EndedAt: 2025-10-06 23:58:45 -0400 (Mon, 06 Oct 2025) EllapsedTime: 364.5 seconds RetCode: 0 Status: OK CheckDir: ffpe.Rcheck Warnings: 0