Package: ffpe Version: 1.54.0 Command: /Library/Frameworks/R.framework/Resources/bin/R CMD check --install=check:ffpe.install-out.txt --library=/Library/Frameworks/R.framework/Resources/library --no-vignettes --timings ffpe_1.54.0.tar.gz StartedAt: 2025-11-03 21:13:25 -0500 (Mon, 03 Nov 2025) EndedAt: 2025-11-03 21:19:52 -0500 (Mon, 03 Nov 2025) EllapsedTime: 387.4 seconds RetCode: 0 Status: OK CheckDir: ffpe.Rcheck Warnings: 0