Package: fenr Version: 1.7.1 Command: rm -rf fenr.buildbin-libdir && mkdir fenr.buildbin-libdir && F:\biocbuild\bbs-3.22-bioc\R\bin\R.exe CMD INSTALL --build --library=fenr.buildbin-libdir fenr_1.7.1.tar.gz StartedAt: 2025-08-15 10:16:08 -0400 (Fri, 15 Aug 2025) EndedAt: 2025-08-15 10:16:26 -0400 (Fri, 15 Aug 2025) EllapsedTime: 18.6 seconds RetCode: 0 Status: OK PackageFile: fenr_1.7.1.zip PackageFileSize: 1.819 MiB