Package: fenr Version: 1.7.1 Command: /Library/Frameworks/R.framework/Resources/bin/R CMD INSTALL fenr StartedAt: 2025-09-30 15:05:44 -0400 (Tue, 30 Sep 2025) EndedAt: 2025-09-30 15:05:46 -0400 (Tue, 30 Sep 2025) EllapsedTime: 2.2 seconds RetCode: 0 Status: OK