Package: fenr Version: 1.7.1 Command: /Library/Frameworks/R.framework/Resources/bin/R CMD check --install=check:fenr.install-out.txt --library=/Library/Frameworks/R.framework/Resources/library --no-vignettes --timings fenr_1.7.1.tar.gz StartedAt: 2025-09-29 19:25:33 -0400 (Mon, 29 Sep 2025) EndedAt: 2025-09-29 19:27:50 -0400 (Mon, 29 Sep 2025) EllapsedTime: 137.7 seconds RetCode: 0 Status: OK CheckDir: fenr.Rcheck Warnings: 0