Package: fedup Version: 1.17.0 Command: /Library/Frameworks/R.framework/Resources/bin/R CMD check --install=check:fedup.install-out.txt --library=/Library/Frameworks/R.framework/Resources/library --no-vignettes --timings fedup_1.17.0.tar.gz StartedAt: 2025-10-02 21:26:37 -0400 (Thu, 02 Oct 2025) EndedAt: 2025-10-02 21:31:50 -0400 (Thu, 02 Oct 2025) EllapsedTime: 313.0 seconds RetCode: 0 Status: OK CheckDir: fedup.Rcheck Warnings: 0