Package: fedup Version: 1.18.0 Command: /Library/Frameworks/R.framework/Resources/bin/R CMD check --install=check:fedup.install-out.txt --library=/Library/Frameworks/R.framework/Resources/library --no-vignettes --timings fedup_1.18.0.tar.gz StartedAt: 2025-11-06 19:45:37 -0500 (Thu, 06 Nov 2025) EndedAt: 2025-11-06 19:47:09 -0500 (Thu, 06 Nov 2025) EllapsedTime: 92.2 seconds RetCode: 0 Status: OK CheckDir: fedup.Rcheck Warnings: 0