Package: fdrame Version: 1.81.0 Command: F:\biocbuild\bbs-3.22-bioc\R\bin\R.exe CMD check --no-multiarch --install=check:fdrame.install-out.txt --library=F:\biocbuild\bbs-3.22-bioc\R\library --no-vignettes --timings fdrame_1.81.0.tar.gz StartedAt: 2025-08-15 03:13:34 -0400 (Fri, 15 Aug 2025) EndedAt: 2025-08-15 03:14:11 -0400 (Fri, 15 Aug 2025) EllapsedTime: 36.8 seconds RetCode: 0 Status: OK CheckDir: fdrame.Rcheck Warnings: 0