Package: fdrame Version: 1.81.0 Command: /Library/Frameworks/R.framework/Resources/bin/R CMD build --keep-empty-dirs --no-resave-data fdrame StartedAt: 2025-10-23 16:57:24 -0400 (Thu, 23 Oct 2025) EndedAt: 2025-10-23 16:57:34 -0400 (Thu, 23 Oct 2025) EllapsedTime: 10.3 seconds RetCode: 0 Status: OK PackageFile: fdrame_1.81.0.tar.gz PackageFileSize: 972.3 KiB