Package: fastseg Version: 1.55.0 Command: /home/biocbuild/bbs-3.22-bioc/R/bin/R CMD check --install=check:fastseg.install-out.txt --library=/home/biocbuild/bbs-3.22-bioc/R/site-library --timings fastseg_1.55.0.tar.gz StartedAt: 2025-10-19 23:50:17 -0400 (Sun, 19 Oct 2025) EndedAt: 2025-10-19 23:51:50 -0400 (Sun, 19 Oct 2025) EllapsedTime: 93.1 seconds RetCode: 0 Status: OK CheckDir: fastseg.Rcheck Warnings: 0