Package: fastseg Version: 1.55.0 Command: /home/biocbuild/bbs-3.22-bioc/R/bin/R CMD build --keep-empty-dirs --no-resave-data --md5 fastseg StartedAt: 2025-10-19 17:37:48 -0400 (Sun, 19 Oct 2025) EndedAt: 2025-10-19 17:38:33 -0400 (Sun, 19 Oct 2025) EllapsedTime: 45.0 seconds RetCode: 0 Status: OK PackageFile: fastseg_1.55.0.tar.gz PackageFileSize: 719.9 KiB