Package: fastreeR Version: 1.99.8 Command: /home/biocbuild/R/R/bin/R CMD INSTALL fastreeR StartedAt: 2025-10-23 20:23:15 -0000 (Thu, 23 Oct 2025) EndedAt: 2025-10-23 20:24:22 -0000 (Thu, 23 Oct 2025) EllapsedTime: 66.6 seconds RetCode: 0 Status: OK