Package: fastreeR Version: 1.99.4 Command: /home/biocbuild/bbs-3.22-bioc/R/bin/R CMD check --install=check:fastreeR.install-out.txt --library=/home/biocbuild/bbs-3.22-bioc/R/site-library --timings fastreeR_1.99.4.tar.gz StartedAt: 2025-10-20 23:44:49 -0400 (Mon, 20 Oct 2025) EndedAt: 2025-10-20 23:45:58 -0400 (Mon, 20 Oct 2025) EllapsedTime: 69.1 seconds RetCode: 0 Status: OK CheckDir: fastreeR.Rcheck Warnings: 0