Package: fastreeR Version: 1.99.8 Command: /Library/Frameworks/R.framework/Resources/bin/R CMD INSTALL fastreeR StartedAt: 2025-10-22 15:09:36 -0400 (Wed, 22 Oct 2025) EndedAt: 2025-10-22 15:10:27 -0400 (Wed, 22 Oct 2025) EllapsedTime: 51.1 seconds RetCode: 0 Status: OK