Package: fastreeR Version: 1.99.8 Command: /Library/Frameworks/R.framework/Resources/bin/R CMD check --install=check:fastreeR.install-out.txt --library=/Library/Frameworks/R.framework/Resources/library --no-vignettes --timings fastreeR_1.99.8.tar.gz StartedAt: 2025-10-22 21:04:03 -0400 (Wed, 22 Oct 2025) EndedAt: 2025-10-22 21:04:57 -0400 (Wed, 22 Oct 2025) EllapsedTime: 54.2 seconds RetCode: 0 Status: OK CheckDir: fastreeR.Rcheck Warnings: 0