Package: fastreeR Version: 1.99.8 Command: rm -rf fastreeR.buildbin-libdir && mkdir fastreeR.buildbin-libdir && /Users/biocbuild/BBS/utils/build-universal.sh fastreeR_1.99.8.tar.gz /Library/Frameworks/R.framework/Resources/bin/R fastreeR.buildbin-libdir StartedAt: 2025-10-24 23:02:47 -0400 (Fri, 24 Oct 2025) EndedAt: 2025-10-24 23:02:50 -0400 (Fri, 24 Oct 2025) EllapsedTime: 2.1 seconds RetCode: 0 Status: OK PackageFile: fastreeR_1.99.8.tgz PackageFileSize: 3.452 MiB