Package: fastreeR Version: 2.0.0 Command: /Library/Frameworks/R.framework/Resources/bin/R CMD check --install=check:fastreeR.install-out.txt --library=/Library/Frameworks/R.framework/Resources/library --no-vignettes --timings fastreeR_2.0.0.tar.gz StartedAt: 2025-11-18 06:22:21 -0500 (Tue, 18 Nov 2025) EndedAt: 2025-11-18 06:22:46 -0500 (Tue, 18 Nov 2025) EllapsedTime: 24.2 seconds RetCode: 0 Status: OK CheckDir: fastreeR.Rcheck Warnings: 0