Package: fastreeR Version: 2.0.0 Command: rm -rf fastreeR.buildbin-libdir && mkdir fastreeR.buildbin-libdir && /Users/biocbuild/BBS/utils/build-universal.sh fastreeR_2.0.0.tar.gz /Library/Frameworks/R.framework/Resources/bin/R fastreeR.buildbin-libdir StartedAt: 2025-11-23 08:38:02 -0500 (Sun, 23 Nov 2025) EndedAt: 2025-11-23 08:38:09 -0500 (Sun, 23 Nov 2025) EllapsedTime: 6.7 seconds RetCode: 0 Status: OK PackageFile: fastreeR_2.0.0.tgz PackageFileSize: 3.439 MiB