Package: famat Version: 1.20.0 Command: /Library/Frameworks/R.framework/Resources/bin/R CMD INSTALL famat StartedAt: 2025-10-31 15:29:14 -0400 (Fri, 31 Oct 2025) EndedAt: 2025-10-31 15:29:34 -0400 (Fri, 31 Oct 2025) EllapsedTime: 20.7 seconds RetCode: 0 Status: OK