Package: faers Version: 1.6.0 Command: /Library/Frameworks/R.framework/Resources/bin/R CMD INSTALL faers StartedAt: 2025-11-02 15:18:36 -0500 (Sun, 02 Nov 2025) EndedAt: 2025-11-02 15:19:09 -0500 (Sun, 02 Nov 2025) EllapsedTime: 32.8 seconds RetCode: 0 Status: OK