Package: factR Version: 1.12.0 Command: /home/biocbuild/R/R/bin/R CMD check --install=check:factR.install-out.txt --library=/home/biocbuild/R/R/site-library --no-vignettes --timings factR_1.12.0.tar.gz StartedAt: 2025-11-21 10:37:41 -0000 (Fri, 21 Nov 2025) EndedAt: 2025-11-21 10:40:35 -0000 (Fri, 21 Nov 2025) EllapsedTime: 174.2 seconds RetCode: 0 Status: OK CheckDir: factR.Rcheck Warnings: 0