Package: factR Version: 1.11.0 Command: /Library/Frameworks/R.framework/Resources/bin/R CMD INSTALL factR StartedAt: 2025-10-07 15:20:17 -0400 (Tue, 07 Oct 2025) EndedAt: 2025-10-07 15:20:21 -0400 (Tue, 07 Oct 2025) EllapsedTime: 4.1 seconds RetCode: 0 Status: OK