Package: factR Version: 1.11.0 Command: /Library/Frameworks/R.framework/Resources/bin/R CMD check --install=check:factR.install-out.txt --library=/Library/Frameworks/R.framework/Resources/library --no-vignettes --timings factR_1.11.0.tar.gz StartedAt: 2025-10-06 19:29:22 -0400 (Mon, 06 Oct 2025) EndedAt: 2025-10-06 19:30:18 -0400 (Mon, 06 Oct 2025) EllapsedTime: 55.7 seconds RetCode: 0 Status: OK CheckDir: factR.Rcheck Warnings: 0