Package: fabia Version: 2.55.0 Command: /Library/Frameworks/R.framework/Resources/bin/R CMD INSTALL fabia StartedAt: 2025-10-16 15:19:15 -0400 (Thu, 16 Oct 2025) EndedAt: 2025-10-16 15:19:20 -0400 (Thu, 16 Oct 2025) EllapsedTime: 4.4 seconds RetCode: 0 Status: OK