Package: fabia Version: 2.55.0 Command: /Library/Frameworks/R.framework/Resources/bin/R CMD check --install=check:fabia.install-out.txt --library=/Library/Frameworks/R.framework/Resources/library --no-vignettes --timings fabia_2.55.0.tar.gz StartedAt: 2025-10-20 19:41:44 -0400 (Mon, 20 Oct 2025) EndedAt: 2025-10-20 19:42:03 -0400 (Mon, 20 Oct 2025) EllapsedTime: 19.3 seconds RetCode: 0 Status: WARNINGS CheckDir: fabia.Rcheck Warnings: 2