Package: extraChIPs Version: 1.14.1 Maintainer: Stevie Pederson MaintainerEmail: stephen.pederson.au at gmail.com git_url: https://git.bioconductor.org/packages/extraChIPs git_branch: RELEASE_3_22 git_last_commit: fca4a60 git_last_commit_date: 2025-11-17 05:40:19 -0500 (Mon, 17 Nov 2025)