Package: evaluomeR Version: 1.26.0 Command: /home/biocbuild/bbs-3.22-bioc/R/bin/R CMD check --install=check:evaluomeR.install-out.txt --library=/home/biocbuild/bbs-3.22-bioc/R/site-library --timings evaluomeR_1.26.0.tar.gz StartedAt: 2025-11-04 23:30:32 -0500 (Tue, 04 Nov 2025) EndedAt: 2025-11-04 23:35:49 -0500 (Tue, 04 Nov 2025) EllapsedTime: 317.2 seconds RetCode: 0 Status: WARNINGS CheckDir: evaluomeR.Rcheck Warnings: 3