Package: evaluomeR Version: 1.26.0 Command: /Library/Frameworks/R.framework/Resources/bin/R CMD INSTALL evaluomeR StartedAt: 2025-11-06 15:18:40 -0500 (Thu, 06 Nov 2025) EndedAt: 2025-11-06 15:18:57 -0500 (Thu, 06 Nov 2025) EllapsedTime: 16.4 seconds RetCode: 0 Status: OK