Package: evaluomeR Version: 1.26.0 Command: /Library/Frameworks/R.framework/Resources/bin/R CMD build --keep-empty-dirs --no-resave-data evaluomeR StartedAt: 2025-11-06 16:22:23 -0500 (Thu, 06 Nov 2025) EndedAt: 2025-11-06 16:22:52 -0500 (Thu, 06 Nov 2025) EllapsedTime: 28.3 seconds RetCode: 0 Status: OK PackageFile: evaluomeR_1.26.0.tar.gz PackageFileSize: 1.046 MiB