Package: evaluomeR Version: 1.26.0 Maintainer: José Antonio Bernabé-Díaz MaintainerEmail: joseantonio.bernabe1 at um.es git_url: https://git.bioconductor.org/packages/evaluomeR git_branch: RELEASE_3_22 git_last_commit: ed75340 git_last_commit_date: 2025-10-29 10:50:57 -0500 (Wed, 29 Oct 2025)