Package: eudysbiome Version: 1.39.0 Command: F:\biocbuild\bbs-3.22-bioc\R\bin\R.exe CMD check --no-multiarch --install=check:eudysbiome.install-out.txt --library=F:\biocbuild\bbs-3.22-bioc\R\library --no-vignettes --timings eudysbiome_1.39.0.tar.gz StartedAt: 2025-08-15 03:07:19 -0400 (Fri, 15 Aug 2025) EndedAt: 2025-08-15 03:09:06 -0400 (Fri, 15 Aug 2025) EllapsedTime: 106.6 seconds RetCode: 0 Status: OK CheckDir: eudysbiome.Rcheck Warnings: 0