Package: eudysbiome Version: 1.39.0 Command: rm -rf eudysbiome.buildbin-libdir && mkdir eudysbiome.buildbin-libdir && F:\biocbuild\bbs-3.22-bioc\R\bin\R.exe CMD INSTALL --build --library=eudysbiome.buildbin-libdir eudysbiome_1.39.0.tar.gz StartedAt: 2025-08-15 10:15:12 -0400 (Fri, 15 Aug 2025) EndedAt: 2025-08-15 10:15:37 -0400 (Fri, 15 Aug 2025) EllapsedTime: 24.7 seconds RetCode: 0 Status: OK PackageFile: eudysbiome_1.39.0.zip PackageFileSize: 4.261 MiB