Package: eudysbiome Version: 1.40.0 Command: /home/biocbuild/bbs-3.22-bioc/R/bin/R CMD check --install=check:eudysbiome.install-out.txt --library=/home/biocbuild/bbs-3.22-bioc/R/site-library --timings eudysbiome_1.40.0.tar.gz StartedAt: 2025-10-30 05:50:20 -0400 (Thu, 30 Oct 2025) EndedAt: 2025-10-30 05:51:47 -0400 (Thu, 30 Oct 2025) EllapsedTime: 87.1 seconds RetCode: 0 Status: OK CheckDir: eudysbiome.Rcheck Warnings: 0