Package: eudysbiome Version: 1.40.0 Command: /Library/Frameworks/R.framework/Resources/bin/R CMD INSTALL eudysbiome StartedAt: 2025-10-30 15:17:28 -0400 (Thu, 30 Oct 2025) EndedAt: 2025-10-30 15:17:44 -0400 (Thu, 30 Oct 2025) EllapsedTime: 15.5 seconds RetCode: 0 Status: OK