Package: eudysbiome Version: 1.40.0 Command: /Library/Frameworks/R.framework/Resources/bin/R CMD build --keep-empty-dirs --no-resave-data eudysbiome StartedAt: 2025-10-30 16:53:08 -0400 (Thu, 30 Oct 2025) EndedAt: 2025-10-30 16:53:30 -0400 (Thu, 30 Oct 2025) EllapsedTime: 21.8 seconds RetCode: 0 Status: OK PackageFile: eudysbiome_1.40.0.tar.gz PackageFileSize: 4.376 MiB