Package: eudysbiome Version: 1.40.0 Command: rm -rf eudysbiome.buildbin-libdir && mkdir eudysbiome.buildbin-libdir && /Users/biocbuild/BBS/utils/build-universal.sh eudysbiome_1.40.0.tar.gz /Library/Frameworks/R.framework/Resources/bin/R eudysbiome.buildbin-libdir StartedAt: 2025-10-31 01:24:12 -0400 (Fri, 31 Oct 2025) EndedAt: 2025-10-31 01:24:30 -0400 (Fri, 31 Oct 2025) EllapsedTime: 18.5 seconds RetCode: 0 Status: OK PackageFile: eudysbiome_1.40.0.tgz PackageFileSize: 4.408 MiB