Package: eudysbiome Version: 1.40.0 Command: /Library/Frameworks/R.framework/Resources/bin/R CMD build --keep-empty-dirs --no-resave-data eudysbiome StartedAt: 2025-10-31 16:26:06 -0400 (Fri, 31 Oct 2025) EndedAt: 2025-10-31 16:26:14 -0400 (Fri, 31 Oct 2025) EllapsedTime: 8.1 seconds RetCode: 0 Status: OK PackageFile: eudysbiome_1.40.0.tar.gz PackageFileSize: 4.378 MiB