Package: eudysbiome Version: 1.39.0 Maintainer: Xiaoyuan Zhou MaintainerEmail: zhouxiaoyuan at picb.ac.cn git_url: https://git.bioconductor.org/packages/eudysbiome git_branch: devel git_last_commit: 5bab2da git_last_commit_date: 2025-04-15 10:52:35 -0400 (Tue, 15 Apr 2025)