Package: escheR Version: 1.10.0 Command: /Library/Frameworks/R.framework/Resources/bin/R CMD INSTALL escheR StartedAt: 2025-11-20 16:26:34 -0500 (Thu, 20 Nov 2025) EndedAt: 2025-11-20 16:27:27 -0500 (Thu, 20 Nov 2025) EllapsedTime: 53.7 seconds RetCode: 0 Status: OK