Package: escheR Version: 1.10.0 Command: /Library/Frameworks/R.framework/Resources/bin/R CMD check --install=check:escheR.install-out.txt --library=/Library/Frameworks/R.framework/Resources/library --no-vignettes --timings escheR_1.10.0.tar.gz StartedAt: 2025-11-21 04:53:21 -0500 (Fri, 21 Nov 2025) EndedAt: 2025-11-21 05:01:13 -0500 (Fri, 21 Nov 2025) EllapsedTime: 472.4 seconds RetCode: 0 Status: OK CheckDir: escheR.Rcheck Warnings: 0