Package: esATAC Version: 1.31.1 Command: /home/biocbuild/R/R/bin/R CMD INSTALL esATAC StartedAt: 2025-10-20 21:25:53 -0000 (Mon, 20 Oct 2025) EndedAt: 2025-10-20 21:27:58 -0000 (Mon, 20 Oct 2025) EllapsedTime: 125.0 seconds RetCode: 0 Status: OK