Package: esATAC Version: 1.31.1 Command: /home/biocbuild/R/R/bin/R CMD check --install=check:esATAC.install-out.txt --library=/home/biocbuild/R/R/site-library --no-vignettes --timings esATAC_1.31.1.tar.gz StartedAt: 2025-10-17 08:47:46 -0000 (Fri, 17 Oct 2025) EndedAt: 2025-10-17 08:56:50 -0000 (Fri, 17 Oct 2025) EllapsedTime: 544.4 seconds RetCode: 0 Status: OK CheckDir: esATAC.Rcheck Warnings: 0