Package: esATAC Version: 1.31.1 Command: /home/biocbuild/bbs-3.22-bioc/R/bin/R CMD check --install=check:esATAC.install-out.txt --library=/home/biocbuild/bbs-3.22-bioc/R/site-library --timings esATAC_1.31.1.tar.gz StartedAt: 2025-10-03 23:39:12 -0400 (Fri, 03 Oct 2025) EndedAt: 2025-10-03 23:46:32 -0400 (Fri, 03 Oct 2025) EllapsedTime: 440.4 seconds RetCode: 0 Status: OK CheckDir: esATAC.Rcheck Warnings: 0