Package: epivizrStandalone Version: 1.37.1 Command: /home/biocbuild/R/R/bin/R CMD INSTALL epivizrStandalone StartedAt: 2025-10-16 22:06:22 -0000 (Thu, 16 Oct 2025) EndedAt: 2025-10-16 22:07:13 -0000 (Thu, 16 Oct 2025) EllapsedTime: 51.0 seconds RetCode: 0 Status: OK