Package: epivizrStandalone Version: 1.37.1 Command: F:\biocbuild\bbs-3.22-bioc\R\bin\R.exe CMD check --no-multiarch --install=check:epivizrStandalone.install-out.txt --library=F:\biocbuild\bbs-3.22-bioc\R\library --no-vignettes --timings epivizrStandalone_1.37.1.tar.gz StartedAt: 2025-08-15 03:04:58 -0400 (Fri, 15 Aug 2025) EndedAt: 2025-08-15 03:10:31 -0400 (Fri, 15 Aug 2025) EllapsedTime: 333.3 seconds RetCode: 0 Status: WARNINGS CheckDir: epivizrStandalone.Rcheck Warnings: 2