Package: epivizrStandalone Version: 1.37.1 Command: chmod a+r epivizrStandalone -R && F:\biocbuild\bbs-3.22-bioc\R\bin\R.exe CMD build --keep-empty-dirs --no-resave-data epivizrStandalone StartedAt: 2025-08-14 20:02:05 -0400 (Thu, 14 Aug 2025) EndedAt: 2025-08-14 20:02:52 -0400 (Thu, 14 Aug 2025) EllapsedTime: 47.2 seconds RetCode: 0 Status: OK PackageFile: epivizrStandalone_1.37.1.tar.gz PackageFileSize: 220.1 KiB