Package: epivizrStandalone Version: 1.37.1 Command: /Library/Frameworks/R.framework/Resources/bin/R CMD INSTALL epivizrStandalone StartedAt: 2025-10-19 15:42:20 -0400 (Sun, 19 Oct 2025) EndedAt: 2025-10-19 15:43:13 -0400 (Sun, 19 Oct 2025) EllapsedTime: 53.6 seconds RetCode: 0 Status: OK