Package: epivizrStandalone Version: 1.37.1 Command: rm -rf epivizrStandalone.buildbin-libdir && mkdir epivizrStandalone.buildbin-libdir && /Users/biocbuild/BBS/utils/build-universal.sh epivizrStandalone_1.37.1.tar.gz /Library/Frameworks/R.framework/Resources/bin/R epivizrStandalone.buildbin-libdir StartedAt: 2025-10-20 03:08:12 -0400 (Mon, 20 Oct 2025) EndedAt: 2025-10-20 03:09:09 -0400 (Mon, 20 Oct 2025) EllapsedTime: 57.9 seconds RetCode: 0 Status: OK PackageFile: epivizrStandalone_1.37.1.tgz PackageFileSize: 250 KiB