Package: epivizrStandalone Version: 1.37.1 Command: /Library/Frameworks/R.framework/Resources/bin/R CMD build --keep-empty-dirs --no-resave-data epivizrStandalone StartedAt: 2025-10-19 16:20:26 -0400 (Sun, 19 Oct 2025) EndedAt: 2025-10-19 16:20:44 -0400 (Sun, 19 Oct 2025) EllapsedTime: 18.2 seconds RetCode: 0 Status: OK PackageFile: epivizrStandalone_1.37.1.tar.gz PackageFileSize: 271 KiB